BEGIN:VCALENDAR
VERSION:2.0
PRODID:spatie/icalendar-generator
DESCRIPTION:Events from Colegio de la Presentación Santa Teresa - Cúcuta
X-WR-CALDESC:Events from Colegio de la Presentación Santa Teresa - Cúcuta
REFRESH-INTERVAL;VALUE=DURATION:PT1440M
X-PUBLISHED-TTL:PT1440M
BEGIN:VTIMEZONE
TZID:Etc/GMT+0
BEGIN:STANDARD
DTSTART:20200912T000000Z
TZOFFSETFROM:+0000
TZOFFSETTO:+0000
END:STANDARD
END:VTIMEZONE
BEGIN:VTIMEZONE
TZID:UTC
BEGIN:STANDARD
DTSTART:20250726T171429Z
TZOFFSETFROM:+0000
TZOFFSETTO:+0000
END:STANDARD
END:VTIMEZONE
BEGIN:VEVENT
UID:216-212
DTSTAMP:20260422T171429Z
SUMMARY:3:00 p.m. Comisión de Evaluación II periodo
LOCATION:
ORGANIZER;CN=colpresa_word:MAILTO:dominiocoin@gmail.com
DTSTART;TZID=Etc/GMT+0;VALUE=DATE:20210609
DTEND;TZID=Etc/GMT+0;VALUE=DATE:20210610
X-ALT-DESC;FMTTYPE=TEXT/HTML:
CATEGORIES:General
URL;VALUE=URI:https://colpresantateresacucuta.edu.co/mc-events/300-p-m-comi
 sion-de-evaluacion-ii-periodo-2/?mc_id=216
END:VEVENT
END:VCALENDAR