BEGIN:VCALENDAR
VERSION:2.0
PRODID:spatie/icalendar-generator
DESCRIPTION:Events from Colegio de la Presentación Santa Teresa - Cúcuta
X-WR-CALDESC:Events from Colegio de la Presentación Santa Teresa - Cúcuta
REFRESH-INTERVAL;VALUE=DURATION:PT1440M
X-PUBLISHED-TTL:PT1440M
BEGIN:VTIMEZONE
TZID:Etc/GMT+0
BEGIN:STANDARD
DTSTART:20200824T000000Z
TZOFFSETFROM:+0000
TZOFFSETTO:+0000
END:STANDARD
END:VTIMEZONE
BEGIN:VTIMEZONE
TZID:UTC
BEGIN:STANDARD
DTSTART:20250725T131726Z
TZOFFSETFROM:+0000
TZOFFSETTO:+0000
END:STANDARD
END:VTIMEZONE
BEGIN:VEVENT
UID:201-197
DTSTAMP:20260421T131726Z
SUMMARY:6:00 Semana de la Salud - 7:00 Día Congregacional - 7:05 Prueba In
 stitucional II de 1° a 11° - 3:30 p.m Reunión CCL - 4:00 Grupo Juvenil
LOCATION:
ORGANIZER;CN=colpresa_word:MAILTO:dominiocoin@gmail.com
DTSTART;TZID=Etc/GMT+0;VALUE=DATE:20210521
DTEND;TZID=Etc/GMT+0;VALUE=DATE:20210522
X-ALT-DESC;FMTTYPE=TEXT/HTML:
CATEGORIES:General
URL;VALUE=URI:https://colpresantateresacucuta.edu.co/mc-events/600-semana-d
 e-la-salud-700-dia-congregacional-705-prueba-institucional-ii-de-1-a-11-33
 0-p-m-reunion-ccl-400-grupo-juvenil/?mc_id=201
END:VEVENT
END:VCALENDAR