BEGIN:VCALENDAR
VERSION:2.0
PRODID:spatie/icalendar-generator
DESCRIPTION:Events from Colegio de la Presentación Santa Teresa - Cúcuta
X-WR-CALDESC:Events from Colegio de la Presentación Santa Teresa - Cúcuta
REFRESH-INTERVAL;VALUE=DURATION:PT1440M
X-PUBLISHED-TTL:PT1440M
BEGIN:VTIMEZONE
TZID:Etc/GMT+0
BEGIN:STANDARD
DTSTART:20200806T000000Z
TZOFFSETFROM:+0000
TZOFFSETTO:+0000
END:STANDARD
END:VTIMEZONE
BEGIN:VTIMEZONE
TZID:UTC
BEGIN:STANDARD
DTSTART:20250723T124553Z
TZOFFSETFROM:+0000
TZOFFSETTO:+0000
END:STANDARD
END:VTIMEZONE
BEGIN:VEVENT
UID:184-181
DTSTAMP:20260419T124553Z
SUMMARY:6:20 Apertura mes de mayo  primaria y secundaria. - Infancia Mision
 era. - 7:15 a.m Apertura mes de mayo preescolar. - 8:30 a.m. Reunión de C
 oordinadoras
LOCATION:
ORGANIZER;CN=colpresa_word:MAILTO:dominiocoin@gmail.com
DTSTART;TZID=Etc/GMT+0;VALUE=DATE:20210503
DTEND;TZID=Etc/GMT+0;VALUE=DATE:20210504
X-ALT-DESC;FMTTYPE=TEXT/HTML:
CATEGORIES:General
URL;VALUE=URI:https://colpresantateresacucuta.edu.co/mc-events/620-apertura
 -mes-de-mayo-primaria-y-secundaria-infancia-misionera-715-a-m-apertura-mes
 -de-mayo-preescolar-830-a-m-reunion-de-coordinadoras/?mc_id=184
END:VEVENT
END:VCALENDAR