BEGIN:VCALENDAR
VERSION:2.0
PRODID:spatie/icalendar-generator
DESCRIPTION:Events from Colegio de la Presentación Santa Teresa - Cúcuta
X-WR-CALDESC:Events from Colegio de la Presentación Santa Teresa - Cúcuta
REFRESH-INTERVAL;VALUE=DURATION:PT1440M
X-PUBLISHED-TTL:PT1440M
BEGIN:VTIMEZONE
TZID:Etc/GMT+0
BEGIN:STANDARD
DTSTART:20210101T000000Z
TZOFFSETFROM:+0000
TZOFFSETTO:+0000
END:STANDARD
END:VTIMEZONE
BEGIN:VTIMEZONE
TZID:UTC
BEGIN:STANDARD
DTSTART:20250723T142835Z
TZOFFSETFROM:+0000
TZOFFSETTO:+0000
END:STANDARD
END:VTIMEZONE
BEGIN:VEVENT
UID:283-273
DTSTAMP:20260419T142835Z
SUMMARY:7:00 Aplicación Prueba Avancemos 4°
LOCATION:
ORGANIZER;CN=colpresa_word:MAILTO:dominiocoin@gmail.com
DTSTART;TZID=Etc/GMT+0;VALUE=DATE:20210928
DTEND;TZID=Etc/GMT+0;VALUE=DATE:20210929
X-ALT-DESC;FMTTYPE=TEXT/HTML:
CATEGORIES:General
URL;VALUE=URI:https://colpresantateresacucuta.edu.co/mc-events/700-aplicaci
 on-prueba-avancemos-4/?mc_id=283
END:VEVENT
END:VCALENDAR