BEGIN:VCALENDAR
VERSION:2.0
PRODID:spatie/icalendar-generator
DESCRIPTION:Events from Colegio de la Presentación Santa Teresa - Cúcuta
X-WR-CALDESC:Events from Colegio de la Presentación Santa Teresa - Cúcuta
REFRESH-INTERVAL;VALUE=DURATION:PT1440M
X-PUBLISHED-TTL:PT1440M
BEGIN:VTIMEZONE
TZID:Etc/GMT+0
BEGIN:STANDARD
DTSTART:20200807T000000Z
TZOFFSETFROM:+0000
TZOFFSETTO:+0000
END:STANDARD
END:VTIMEZONE
BEGIN:VTIMEZONE
TZID:UTC
BEGIN:STANDARD
DTSTART:20250723T152641Z
TZOFFSETFROM:+0000
TZOFFSETTO:+0000
END:STANDARD
END:VTIMEZONE
BEGIN:VEVENT
UID:185-182
DTSTAMP:20260419T152641Z
SUMMARY:8:30 a.m Consejo del SIG. - 10:00 a.m Comité de Archivo
LOCATION:
ORGANIZER;CN=colpresa_word:MAILTO:dominiocoin@gmail.com
DTSTART;TZID=Etc/GMT+0;VALUE=DATE:20210504
DTEND;TZID=Etc/GMT+0;VALUE=DATE:20210505
X-ALT-DESC;FMTTYPE=TEXT/HTML:
CATEGORIES:General
URL;VALUE=URI:https://colpresantateresacucuta.edu.co/mc-events/830-a-m-cons
 ejo-del-sig-1000-a-m-comite-de-archivo/?mc_id=185
END:VEVENT
END:VCALENDAR