BEGIN:VCALENDAR
VERSION:2.0
PRODID:spatie/icalendar-generator
DESCRIPTION:Events from Colegio de la Presentación Santa Teresa - Cúcuta
X-WR-CALDESC:Events from Colegio de la Presentación Santa Teresa - Cúcuta
REFRESH-INTERVAL;VALUE=DURATION:PT1440M
X-PUBLISHED-TTL:PT1440M
BEGIN:VTIMEZONE
TZID:Etc/GMT+0
BEGIN:STANDARD
DTSTART:20211128T000000Z
TZOFFSETFROM:+0000
TZOFFSETTO:+0000
END:STANDARD
END:VTIMEZONE
BEGIN:VTIMEZONE
TZID:UTC
BEGIN:STANDARD
DTSTART:20250723T164852Z
TZOFFSETFROM:+0000
TZOFFSETTO:+0000
END:STANDARD
END:VTIMEZONE
BEGIN:VEVENT
UID:420-406
DTSTAMP:20260419T164852Z
SUMMARY:Bimestrales III Periodo 8° a 11° / Eucaristia
LOCATION:
ORGANIZER;CN=colpresa_word:MAILTO:dominiocoin@gmail.com
DTSTART;TZID=Etc/GMT+0;VALUE=DATE:20220825
DTEND;TZID=Etc/GMT+0;VALUE=DATE:20220826
X-ALT-DESC;FMTTYPE=TEXT/HTML:
CATEGORIES:General
URL;VALUE=URI:https://colpresantateresacucuta.edu.co/mc-events/bimestrales-
 iii-periodo-8-a-11-eucaristia/?mc_id=420
END:VEVENT
END:VCALENDAR