BEGIN:VCALENDAR
VERSION:2.0
PRODID:spatie/icalendar-generator
DESCRIPTION:Events from Colegio de la Presentación Santa Teresa - Cúcuta
X-WR-CALDESC:Events from Colegio de la Presentación Santa Teresa - Cúcuta
REFRESH-INTERVAL;VALUE=DURATION:PT1440M
X-PUBLISHED-TTL:PT1440M
BEGIN:VTIMEZONE
TZID:Etc/GMT+0
BEGIN:STANDARD
DTSTART:20240622T000000Z
TZOFFSETFROM:+0000
TZOFFSETTO:+0000
END:STANDARD
END:VTIMEZONE
BEGIN:VTIMEZONE
TZID:UTC
BEGIN:STANDARD
DTSTART:20250723T155257Z
TZOFFSETFROM:+0000
TZOFFSETTO:+0000
END:STANDARD
END:VTIMEZONE
BEGIN:VEVENT
UID:443-427
DTSTAMP:20260419T155257Z
SUMMARY:Día de San José - Dirección de Grupo: SIEE - JORNADA PEDAGÒGICA
  SST
LOCATION:
ORGANIZER;CN=colpresa_word:MAILTO:dominiocoin@gmail.com
DTSTART;TZID=Etc/GMT+0:20250319T000000
DTEND;TZID=Etc/GMT+0:20250319T010000
X-ALT-DESC;FMTTYPE=TEXT/HTML:
CATEGORIES:General
URL;VALUE=URI:https://colpresantateresacucuta.edu.co/mc-events/dia-de-san-j
 ose-direccion-de-grupo-siee-jornada-pedagogica-sst/?mc_id=443
END:VEVENT
END:VCALENDAR