BEGIN:VCALENDAR
VERSION:2.0
PRODID:spatie/icalendar-generator
DESCRIPTION:Events from Colegio de la Presentación Santa Teresa - Cúcuta
X-WR-CALDESC:Events from Colegio de la Presentación Santa Teresa - Cúcuta
REFRESH-INTERVAL;VALUE=DURATION:PT1440M
X-PUBLISHED-TTL:PT1440M
BEGIN:VTIMEZONE
TZID:Etc/GMT+0
BEGIN:STANDARD
DTSTART:20191220T000000Z
TZOFFSETFROM:+0000
TZOFFSETTO:+0000
END:STANDARD
END:VTIMEZONE
BEGIN:VTIMEZONE
TZID:UTC
BEGIN:STANDARD
DTSTART:20250723T180709Z
TZOFFSETFROM:+0000
TZOFFSETTO:+0000
END:STANDARD
END:VTIMEZONE
BEGIN:VEVENT
UID:72-71
DTSTAMP:20260419T180709Z
SUMMARY:Publicación de Admitidos 2021. - 8:00 a.m. a 10:00 a.m. Capacitaci
 ón virtual RedPaPaz Rectora\, Psicoorientadoras. - Prueba de ensayo virtu
 al Presaber 11º - - 3:00 p.m. Jornada Pedagógica Talento Humano.
LOCATION:
ORGANIZER;CN=colpresa_word:MAILTO:dominiocoin@gmail.com
DTSTART;TZID=Etc/GMT+0;VALUE=DATE:20200915
DTEND;TZID=Etc/GMT+0;VALUE=DATE:20200916
X-ALT-DESC;FMTTYPE=TEXT/HTML:
CATEGORIES:General
URL;VALUE=URI:https://colpresantateresacucuta.edu.co/mc-events/publicacion-
 de-admitidos-2021-800-a-m-a-1000-a-m-capacitacion-virtual-redpapaz-rectora
 -psicoorientadoras-prueba-de-ensayo-virtual-presaber-11o-300-p-m-jornada-p
 edagogica-talento-human/?mc_id=72
END:VEVENT
END:VCALENDAR